BEGIN:VCALENDAR
VERSION:2.0
PRODID:-//Impulsores - ECPv6.14.2//NONSGML v1.0//EN
CALSCALE:GREGORIAN
METHOD:PUBLISH
X-WR-CALNAME:Impulsores
X-ORIGINAL-URL:https://impulsores.com.mx
X-WR-CALDESC:Eventos para Impulsores
REFRESH-INTERVAL;VALUE=DURATION:PT1H
X-Robots-Tag:noindex
X-PUBLISHED-TTL:PT1H
BEGIN:VTIMEZONE
TZID:America/Hermosillo
BEGIN:STANDARD
TZOFFSETFROM:-0700
TZOFFSETTO:-0700
TZNAME:MST
DTSTART:20240101T000000
END:STANDARD
END:VTIMEZONE
BEGIN:VEVENT
DTSTART;TZID=America/Hermosillo:20250920T090000
DTEND;TZID=America/Hermosillo:20250920T140000
DTSTAMP:20260423T042640
CREATED:20250816T211723Z
LAST-MODIFIED:20250816T211905Z
UID:19212-1758358800-1758376800@impulsores.com.mx
SUMMARY:Diplomado en Derecho Administrativo
DESCRIPTION:Objetivo General:  \n\n\n\nDesarrollar en las y los participantes habilidades y conocimientos para la aplicación de los diversos instrumentos\, mecanismos e instituciones jurídicas relativos al derecho administrativo\, para con ello garantizar el análisis\, interpretación y aplicación de las disposiciones legales y reglamentarias en materia administrativa\, con énfasis en los procedimientos administrativos\, los medios de defensa\, así como en los principios constitucionales que rigen la actuación de la autoridad en México\, fortaleciendo su ejercicio profesional en el ámbito público y privado.
URL:https://impulsores.com.mx/curso/diplomado-en-derecho-administrativo/
END:VEVENT
BEGIN:VEVENT
DTSTART;TZID=America/Hermosillo:20250920T090000
DTEND;TZID=America/Hermosillo:20250920T140000
DTSTAMP:20260423T042640
CREATED:20250709T232554Z
LAST-MODIFIED:20250816T205915Z
UID:19157-1758358800-1758376800@impulsores.com.mx
SUMMARY:Diplomado en Mediación
DESCRIPTION:Objetivo general: Desarrollar en las y los participantes habilidades y conocimientos para la aplicación de los Mecanismos Alternativos de Solución de Conflictos (MASC) en los ámbitos jurídico\, educativo y social\, con un enfoque integral en la mediación como herramienta eficaz para la resolución pacífica de controversias.
URL:https://impulsores.com.mx/curso/diplomado-en-mediacion/
END:VEVENT
BEGIN:VEVENT
DTSTART;TZID=America/Hermosillo:20250906T090000
DTEND;TZID=America/Hermosillo:20250906T140000
DTSTAMP:20260423T042640
CREATED:20250816T212309Z
LAST-MODIFIED:20250816T212312Z
UID:19215-1757149200-1757167200@impulsores.com.mx
SUMMARY:Diplomado en Juicio de Amparo
DESCRIPTION:Objetivo General: Proporcionar a los participantes un conocimiento profundo y actualizado del juicio de amparo en México\, desde sus fundamentos constitucionales hasta su aplicación práctica en las distintas vías y recursos\, con un enfoque en la jurisprudencia y casos relevantes para Sonora.
URL:https://impulsores.com.mx/curso/diplomado-en-juicio-de-amparo/
END:VEVENT
BEGIN:VEVENT
DTSTART;TZID=America/Hermosillo:20250503T100000
DTEND;TZID=America/Hermosillo:20250503T140000
DTSTAMP:20260423T042640
CREATED:20250409T174959Z
LAST-MODIFIED:20250409T175811Z
UID:19038-1746266400-1746280800@impulsores.com.mx
SUMMARY:CURSO DE PROPIEDAD INTELECTUAL\, IMPARTIDO POR ALEJANDRO MIRANDA - DAB LEGAL
DESCRIPTION:
URL:https://impulsores.com.mx/curso/curso-de-propiedad-intelectual/
END:VEVENT
BEGIN:VEVENT
DTSTART;TZID=America/Hermosillo:20250312T150000
DTEND;TZID=America/Hermosillo:20250312T190000
DTSTAMP:20260423T042640
CREATED:20250312T203649Z
LAST-MODIFIED:20250312T203800Z
UID:19031-1741791600-1741806000@impulsores.com.mx
SUMMARY:Taller libérate de la ansiedad
DESCRIPTION:
URL:https://impulsores.com.mx/curso/taller-liberate-de-la-ansiedad/
END:VEVENT
BEGIN:VEVENT
DTSTART;TZID=America/Hermosillo:20241004T170000
DTEND;TZID=America/Hermosillo:20241004T200000
DTSTAMP:20260423T042640
CREATED:20240914T213318Z
LAST-MODIFIED:20240914T213549Z
UID:18929-1728061200-1728072000@impulsores.com.mx
SUMMARY:Daño Psicológico y Dictamen Pericial
DESCRIPTION:Objetivo\nConocer el concepto de daño psicológico y sus implicaciones en los tribunales\, así como brindar herramientas para estructurar un dictamen pericial psicológico sólido y su sustentación ante un juez. \nSede\nInstalaciones de Impulsores\nBoulevard Paseo Río Sonora 67\, Hermosillo\, Mexico\, 83270.
URL:https://impulsores.com.mx/curso/dano-psicologico-y-dictamen-pericial/
LOCATION:Impulsores\, Boulevard Paseo Río Sonora 67\, Hermosillo\, Sonora\, 83270\, Mexico
CATEGORIES:Legal,Psicología
END:VEVENT
BEGIN:VEVENT
DTSTART;TZID=America/Hermosillo:20240907T090000
DTEND;TZID=America/Hermosillo:20241012T140000
DTSTAMP:20260423T042640
CREATED:20240820T202151Z
LAST-MODIFIED:20240823T060331Z
UID:18807-1725699600-1728741600@impulsores.com.mx
SUMMARY:GRAN CURSO DE DERECHO INMOBILIARIO
DESCRIPTION:Objetivo\nEl profesional de las bienes raíces comprenderá las bases y fundamentos de las obligaciones del derecho civil y notarial\, a fin de profundizar en los contratos de compraventa y arrendamiento inmobiliario\, sus particularidades\, redacción e interpretación clausular\, así como obtener herramientas y habilidades para brindar un mejor servicio a sus clientes y comprender los límites y alcances de las obligaciones fiscales emanadas de ese tipo de transacciones. \nSede\nInstalaciones de Impulsores\nBoulevard Paseo Río Sonora 67\, Hermosillo\, Mexico\, 83270.
URL:https://impulsores.com.mx/curso/gran-curso-de-derecho-inmobiliario/
LOCATION:Impulsores\, Boulevard Paseo Río Sonora 67\, Hermosillo\, Sonora\, 83270\, Mexico
CATEGORIES:Inmobiliario
ATTACH;FMTTYPE=image/jpeg:https://impulsores.com.mx/wp-content/uploads/2024/01/real-state.jpg
END:VEVENT
BEGIN:VEVENT
DTSTART;TZID=America/Hermosillo:20240830T170000
DTEND;TZID=America/Hermosillo:20240830T180000
DTSTAMP:20260423T042640
CREATED:20240820T152242Z
LAST-MODIFIED:20240820T210840Z
UID:18794-1725037200-1725040800@impulsores.com.mx
SUMMARY:LOS NUEVOS CÁNONES PROCESALES EN MATERIA FAMILIAR
DESCRIPTION:Objetivo\nQue el asistente conozca\, adquiera y desarrolle habilidades que le permitan la solución pacífica de los conflictos en la familia\, tanto con la pareja como con los hijos\, incluyendo los relacionados con la obligación de proporcionar alimentos\, educación\, custodias y convivencias (en el caso de parejas separadas o divorciadas). \nSede\nInstalaciones de Impulsores\nBoulevard Paseo Río Sonora 67\, Hermosillo\, Mexico\, 83270. \n 
URL:https://impulsores.com.mx/curso/los-nuevos-canones-procesales-en-materia-familiar/
LOCATION:Impulsores\, Boulevard Paseo Río Sonora 67\, Hermosillo\, Sonora\, 83270\, Mexico
CATEGORIES:Familiar
ATTACH;FMTTYPE=image/jpeg:https://impulsores.com.mx/wp-content/uploads/2024/01/happy-latin-family.jpg
END:VEVENT
END:VCALENDAR